0.8427310000
0.0000000000
0.0000000000
-0.8427310000
2512642.3460529009
4227887.3878618954
