0.8441370000
0.0000000000
0.0000000000
-0.8441370000
2505318.8522158051
4216800.9818082964
