0.8429720000
0.0000000000
0.0000000000
-0.8429720000
2527254.6681850324
4211253.2104092734
