0.8462570000
0.0000000000
0.0000000000
-0.8462570000
2541835.3415456614
4227936.6916775685
