0.8436370000
0.0000000000
0.0000000000
-0.8436370000
2527246.1662302925
4222349.3988572573
