0.8426650000
0.0000000000
0.0000000000
-0.8426650000
2519942.8037459571
4216790.7673758650
