0.8500140000
0.0000000000
0.0000000000
-0.8500140000
2563725.8989720512
4228044.9701645998
