0.8476980000
0.0000000000
0.0000000000
-0.8476980000
2549191.1920933253
4211321.5974843176
