0.8473780000
0.0000000000
0.0000000000
-0.8473780000
2505289.0853538788
4200157.3913872903
