0.8465480000
0.0000000000
0.0000000000
-0.8465480000
2490615.9520821250
4194647.9705076432
