0.8461950000
0.0000000000
0.0000000000
-0.8461950000
2497933.0169165502
4189076.6091385297
