0.8454530000
0.0000000000
0.0000000000
-0.8454530000
2534587.1729199309
4200172.6261250777
