0.8514730000
0.0000000000
0.0000000000
-0.8514730000
2541923.8839730104
4194649.2547630286
