0.8477660000
0.0000000000
0.0000000000
-0.8477660000
2541938.0591827771
4189100.8279903820
