0.8462730000
0.0000000000
0.0000000000
-0.8462730000
2490575.9360102522
4183551.9066807786
