0.8476510000
0.0000000000
0.0000000000
-0.8476510000
2497902.6702705766
4177981.7542856205
