0.8497870000
0.0000000000
0.0000000000
-0.8497870000
2505249.1787864435
4177965.8423225405
