0.8467800000
0.0000000000
0.0000000000
-0.8467800000
2527280.2695105760
4183514.1852223529
