0.8459230000
0.0000000000
0.0000000000
-0.8459230000
2527288.7419634801
4172418.0238801865
