0.8469560000
0.0000000000
0.0000000000
-0.8469560000
2490437.8934780001
4144719.6865220000
