0.8459180000
0.0000000000
0.0000000000
-0.8459180000
2534655.6761468435
4161340.4139200849
