0.8448500000
0.0000000000
0.0000000000
-0.8448500000
2519942.9401551513
4144670.6698311372
