0.8447690000
0.0000000000
0.0000000000
-0.8447690000
2519942.7062321636
4150218.9233083543
