0.566819
0.000
0.000
-0.566819
2364935.967
4140552.867
