0.84974433723226
0.00000000000000
0.00000000000000
-0.84974433723226
2519893.13748266410000
4178006.05954473880000
