0.84911457185750
0.00000000000000
0.00000000000000
-0.84911457185750
2527244.40649717810000
4172467.93557609570000
