0.63600105685473
0.00000000000000
0.00000000000000
-0.63600105685473
2519893.18705262760000
4161361.93724223550000
