0.50803038423021
0.00000000000000
0.00000000000000
-0.50803038423021
2322764.20
4230280.57
