0.50920338221025
0.00000000000000
0.00000000000000
-0.50920338221025
2315185.40
4219371.71
