0.50815979878789
0.00000000000000
0.00000000000000
-0.50815979878789
2292777.17
4203292.43
