0.50798106795131
0.00000000000000
0.00000000000000
-0.50798106795131
2307436.25
4202897.40
