0.50801544707192
0.00000000000000
0.00000000000000
-0.50801544707192
2299904.43
4197625.73
