0.50787730736218
0.00000000000000
0.00000000000000
-0.50787730736218
2344199.48
4207580.45
