0.50820461753538
0.00000000000000
0.00000000000000
-0.50820461753538
2402685.09
4201029.60
