0.50774874478059
0.00000000000000
0.00000000000000
-0.50774874478059
2402639.15
4195431.01
