0.50819352650305
0.00000000000000
0.00000000000000
-0.50819352650305
2402550.56
4189886.00
