0.50689329679886
0.00000000000000
0.00000000000000
-0.50689329679886
2431955.99
4195070.40
