0.50836232075165
0.00000000000000
0.00000000000000
-0.50836232075165
2468140.00
4194986.09
