0.50813450782375
-0.00172715301905
-0.00187569168912
-0.50860430989970
2490201.96
4189258.48
