0.50758764615015
0.00000000000000
0.00000000000000
-0.50758764615015
2380348.92
4179136.13
