0.50757036191616
0.00000000000000
0.00000000000000
-0.50757036191616
2395045.56
4178897.35
