0.50750255737576
0.00000000000000
0.00000000000000
-0.50750255737576
2380255.09
4173585.79
