0.50770993890352
0.00000000000000
0.00000000000000
-0.50770993890352
2394958.70
4173351.87
