0.50742939539874
0.00000000000000
0.00000000000000
-0.50742939539874
2431837.62
4183975.21
