0.84979360207913
0.00000000000000
0.00000000000000
-0.84979360207913
2461748.91910210950000
4268818.94694635090000
