0.50779203855581
0.00000000000000
0.00000000000000
-0.50779203855581
2344670.36
4229779.46
