0.50776369813363
0.00000000000000
0.00000000000000
-0.50776369813363
2351971.50
4229624.01
