0.50794442051459
0.00000000000000
0.00000000000000
-0.50794442051459
2359283.17
4229475.43
