0.50783773845210
0.00000000000000
0.00000000000000
-0.50783773845210
2344434.22
4218680.00
