0.50811159799446
0.00000000000000
0.00000000000000
-0.50811159799446
2359063.36
4218376.07
